BEGIN:VCALENDAR
VERSION:2.0
PRODID:-//Rosebank College - ECPv4.6.10//NONSGML v1.0//EN
CALSCALE:GREGORIAN
METHOD:PUBLISH
X-WR-CALNAME:Rosebank College
X-ORIGINAL-URL:http://rosebank.nsw.edu.au
X-WR-CALDESC:Events for Rosebank College
BEGIN:VEVENT
DTSTART;TZID=UTC+11:20200226T080000
DTEND;TZID=UTC+11:20200226T170000
DTSTAMP:20200227T225101
CREATED:20191216T235156Z
LAST-MODIFIED:20191216T235156Z
UID:6053-1582704000-1582736400@rosebank.nsw.edu.au
SUMMARY:Ash Wednesday
DESCRIPTION:
URL:http://rosebank.nsw.edu.au/calendar/ash-wednesday-3/
END:VEVENT
END:VCALENDAR