BEGIN:VCALENDAR
VERSION:2.0
PRODID:-//Rosebank College - ECPv4.6.10//NONSGML v1.0//EN
CALSCALE:GREGORIAN
METHOD:PUBLISH
X-WR-CALNAME:Rosebank College
X-ORIGINAL-URL:http://rosebank.nsw.edu.au
X-WR-CALDESC:Events for Rosebank College
BEGIN:VEVENT
DTSTART;TZID=UTC+11:20200306T080000
DTEND;TZID=UTC+11:20200306T170000
DTSTAMP:20200227T231247
CREATED:20191216T235255Z
LAST-MODIFIED:20191216T235255Z
UID:6055-1583481600-1583514000@rosebank.nsw.edu.au
SUMMARY:Book Character Day
DESCRIPTION:
URL:http://rosebank.nsw.edu.au/calendar/book-character-day-2/
END:VEVENT
END:VCALENDAR