BEGIN:VCALENDAR
VERSION:2.0
PRODID:-//Rosebank College - ECPv4.6.10//NONSGML v1.0//EN
CALSCALE:GREGORIAN
METHOD:PUBLISH
X-WR-CALNAME:Rosebank College
X-ORIGINAL-URL:http://rosebank.nsw.edu.au
X-WR-CALDESC:Events for Rosebank College
BEGIN:VEVENT
DTSTART;TZID=UTC+11:20191114T080000
DTEND;TZID=UTC+11:20191114T170000
DTSTAMP:20200227T232220
CREATED:20181219T002012Z
LAST-MODIFIED:20181219T002110Z
UID:5282-1573718400-1573750800@rosebank.nsw.edu.au
SUMMARY:Year 12 Formal
DESCRIPTION:
URL:http://rosebank.nsw.edu.au/calendar/discovery-week/
END:VEVENT
END:VCALENDAR