BEGIN:VCALENDAR
VERSION:2.0
PRODID:-//Rosebank College - ECPv4.6.10//NONSGML v1.0//EN
CALSCALE:GREGORIAN
METHOD:PUBLISH
X-WR-CALNAME:Rosebank College
X-ORIGINAL-URL:http://rosebank.nsw.edu.au
X-WR-CALDESC:Events for Rosebank College
BEGIN:VEVENT
DTSTART;TZID=UTC+11:20190805T080000
DTEND;TZID=UTC+11:20190819T170000
DTSTAMP:20200227T225514
CREATED:20181219T003555Z
LAST-MODIFIED:20181219T003555Z
UID:5304-1564992000-1566234000@rosebank.nsw.edu.au
SUMMARY:HSC Trials
DESCRIPTION:
URL:http://rosebank.nsw.edu.au/calendar/hsc-trials-2/
END:VEVENT
END:VCALENDAR