BEGIN:VCALENDAR
VERSION:2.0
PRODID:-//Rosebank College - ECPv4.6.10//NONSGML v1.0//EN
CALSCALE:GREGORIAN
METHOD:PUBLISH
X-WR-CALNAME:Rosebank College
X-ORIGINAL-URL:http://rosebank.nsw.edu.au
X-WR-CALDESC:Events for Rosebank College
BEGIN:VEVENT
DTSTART;TZID=UTC+11:20200210T080000
DTEND;TZID=UTC+11:20200210T170000
DTSTAMP:20200227T224825
CREATED:20191216T231016Z
LAST-MODIFIED:20191216T231220Z
UID:6040-1581321600-1581354000@rosebank.nsw.edu.au
SUMMARY:Swimming Carnival
DESCRIPTION:
URL:http://rosebank.nsw.edu.au/calendar/opening-assembly-5/
END:VEVENT
END:VCALENDAR