BEGIN:VCALENDAR
VERSION:2.0
PRODID:-//Rosebank College - ECPv4.6.10//NONSGML v1.0//EN
CALSCALE:GREGORIAN
METHOD:PUBLISH
X-WR-CALNAME:Rosebank College
X-ORIGINAL-URL:http://rosebank.nsw.edu.au
X-WR-CALDESC:Events for Rosebank College
BEGIN:VEVENT
DTSTART;TZID=UTC+11:20191204T080000
DTEND;TZID=UTC+11:20191204T170000
DTSTAMP:20200227T230401
CREATED:20181219T002626Z
LAST-MODIFIED:20181219T002725Z
UID:5295-1575446400-1575478800@rosebank.nsw.edu.au
SUMMARY:House Assemblies
DESCRIPTION:
URL:http://rosebank.nsw.edu.au/calendar/presentation-evening-5/
END:VEVENT
END:VCALENDAR