BEGIN:VCALENDAR
VERSION:2.0
PRODID:-//Rosebank College - ECPv4.6.10//NONSGML v1.0//EN
CALSCALE:GREGORIAN
METHOD:PUBLISH
X-WR-CALNAME:Rosebank College
X-ORIGINAL-URL:http://rosebank.nsw.edu.au
X-WR-CALDESC:Events for Rosebank College
BEGIN:VEVENT
DTSTART;TZID=UTC+11:20191203T080000
DTEND;TZID=UTC+11:20191203T170000
DTSTAMP:20200227T224518
CREATED:20181219T004224Z
LAST-MODIFIED:20181219T014533Z
UID:5314-1575360000-1575392400@rosebank.nsw.edu.au
SUMMARY:Presentation Evening
DESCRIPTION:
URL:http://rosebank.nsw.edu.au/calendar/presentation-evening-7/
END:VEVENT
END:VCALENDAR