BEGIN:VCALENDAR
VERSION:2.0
PRODID:-//Rosebank College - ECPv4.6.10//NONSGML v1.0//EN
CALSCALE:GREGORIAN
METHOD:PUBLISH
X-WR-CALNAME:Rosebank College
X-ORIGINAL-URL:http://rosebank.nsw.edu.au
X-WR-CALDESC:Events for Rosebank College
BEGIN:VEVENT
DTSTART;TZID=UTC+11:20200829T080000
DTEND;TZID=UTC+11:20200829T170000
DTSTAMP:20200227T231129
CREATED:20191217T015940Z
LAST-MODIFIED:20191217T015940Z
UID:6191-1598688000-1598720400@rosebank.nsw.edu.au
SUMMARY:Trivia Night
DESCRIPTION:
URL:http://rosebank.nsw.edu.au/calendar/trivia-night/
END:VEVENT
END:VCALENDAR