BEGIN:VCALENDAR
VERSION:2.0
PRODID:-//Rosebank College - ECPv4.6.10//NONSGML v1.0//EN
CALSCALE:GREGORIAN
METHOD:PUBLISH
X-WR-CALNAME:Rosebank College
X-ORIGINAL-URL:http://rosebank.nsw.edu.au
X-WR-CALDESC:Events for Rosebank College
BEGIN:VEVENT
DTSTART;TZID=UTC+11:20191014T080000
DTEND;TZID=UTC+11:20191018T170000
DTSTAMP:20200227T225902
CREATED:20181219T004142Z
LAST-MODIFIED:20181219T004142Z
UID:5312-1571040000-1571418000@rosebank.nsw.edu.au
SUMMARY:Year 10 Work Experience
DESCRIPTION:
URL:http://rosebank.nsw.edu.au/calendar/year-10-work-experience-3/
END:VEVENT
END:VCALENDAR