BEGIN:VCALENDAR
VERSION:2.0
PRODID:-//Rosebank College - ECPv4.6.10//NONSGML v1.0//EN
CALSCALE:GREGORIAN
METHOD:PUBLISH
X-WR-CALNAME:Rosebank College
X-ORIGINAL-URL:http://rosebank.nsw.edu.au
X-WR-CALDESC:Events for Rosebank College
BEGIN:VEVENT
DTSTART;TZID=UTC+11:20191129T080000
DTEND;TZID=UTC+11:20191129T170000
DTSTAMP:20200227T230139
CREATED:20181219T002543Z
LAST-MODIFIED:20181219T002543Z
UID:5293-1575014400-1575046800@rosebank.nsw.edu.au
SUMMARY:Year 7 Arts Day
DESCRIPTION:
URL:http://rosebank.nsw.edu.au/calendar/year-7-arts-day-2/
END:VEVENT
END:VCALENDAR