BEGIN:VCALENDAR
VERSION:2.0
PRODID:-//Rosebank College - ECPv4.6.10//NONSGML v1.0//EN
CALSCALE:GREGORIAN
METHOD:PUBLISH
X-WR-CALNAME:Rosebank College
X-ORIGINAL-URL:http://rosebank.nsw.edu.au
X-WR-CALDESC:Events for Rosebank College
BEGIN:VEVENT
DTSTART;TZID=UTC+11:20200224T080000
DTEND;TZID=UTC+11:20200226T170000
DTSTAMP:20200227T224854
CREATED:20191216T234912Z
LAST-MODIFIED:20191216T234912Z
UID:6049-1582531200-1582736400@rosebank.nsw.edu.au
SUMMARY:Year 7 Camp
DESCRIPTION:
URL:http://rosebank.nsw.edu.au/calendar/year-7-camp-10/
END:VEVENT
END:VCALENDAR