BEGIN:VCALENDAR
VERSION:2.0
PRODID:-//Rosebank College - ECPv4.6.10//NONSGML v1.0//EN
CALSCALE:GREGORIAN
METHOD:PUBLISH
X-WR-CALNAME:Rosebank College
X-ORIGINAL-URL:http://rosebank.nsw.edu.au
X-WR-CALDESC:Events for Rosebank College
BEGIN:VEVENT
DTSTART;TZID=UTC+11:20200907T160000
DTEND;TZID=UTC+11:20200907T200000
DTSTAMP:20200227T231140
CREATED:20200102T230125Z
LAST-MODIFIED:20200102T230135Z
UID:6235-1599494400-1599508800@rosebank.nsw.edu.au
SUMMARY:Year 7 LPM's
DESCRIPTION:
URL:http://rosebank.nsw.edu.au/calendar/year-7-lpms-3/
END:VEVENT
END:VCALENDAR