BEGIN:VCALENDAR
VERSION:2.0
PRODID:-//Rosebank College - ECPv4.6.10//NONSGML v1.0//EN
CALSCALE:GREGORIAN
METHOD:PUBLISH
X-WR-CALNAME:Rosebank College
X-ORIGINAL-URL:http://rosebank.nsw.edu.au
X-WR-CALDESC:Events for Rosebank College
BEGIN:VEVENT
DTSTART;TZID=UTC+11:20200901T163000
DTEND;TZID=UTC+11:20200901T203000
DTSTAMP:20200227T231034
CREATED:20191217T020530Z
LAST-MODIFIED:20191217T020530Z
UID:6193-1598977800-1598992200@rosebank.nsw.edu.au
SUMMARY:Year 9 LPM's
DESCRIPTION:
URL:http://rosebank.nsw.edu.au/calendar/year-9-lpms-2/
END:VEVENT
END:VCALENDAR