BEGIN:VCALENDAR
VERSION:2.0
PRODID:-//Rosebank College - ECPv4.6.10//NONSGML v1.0//EN
CALSCALE:GREGORIAN
METHOD:PUBLISH
X-WR-CALNAME:Rosebank College
X-ORIGINAL-URL:http://rosebank.nsw.edu.au
X-WR-CALDESC:Events for Rosebank College
BEGIN:VEVENT
DTSTART;TZID=UTC+11:20191209T080000
DTEND;TZID=UTC+11:20191209T170000
DTSTAMP:20200227T225227
CREATED:20181219T002912Z
LAST-MODIFIED:20181219T002912Z
UID:5300-1575878400-1575910800@rosebank.nsw.edu.au
SUMMARY:Years 7-10 Picnic Day
DESCRIPTION:
URL:http://rosebank.nsw.edu.au/calendar/years-7-10-picnic-day/
END:VEVENT
END:VCALENDAR